{
 "currentVersion": 11.5,
 "serviceDescription": "Basemap/Hillshade2019",
 "serviceItemId": "e4d251ebe46d41f69dc197ec660cc4f6",
 "name": "Basemap/Hillshade2019",
 "description": "",
 "extent": {
  "xmin": 7572564.178283625,
  "ymin": 635753.5213215045,
  "xmax": 7647906.176621239,
  "ymax": 718205.5177001953,
  "spatialReference": {
   "wkid": 103137,
   "latestWkid": 6559
  }
 },
 "initialExtent": {
  "xmin": 7572564.178283625,
  "ymin": 635753.5213215045,
  "xmax": 7647906.176621239,
  "ymax": 718205.5177001953,
  "spatialReference": {
   "wkid": 103137,
   "latestWkid": 6559
  }
 },
 "fullExtent": {
  "xmin": 7572564.178283625,
  "ymin": 635753.5213215045,
  "xmax": 7647906.176621239,
  "ymax": 718205.5177001953,
  "spatialReference": {
   "wkid": 103137,
   "latestWkid": 6559
  }
 },
 "sortableFields": "",
 "bandCount": 1,
 "pixelType": "F32",
 "minValues": [
  0.2752596139907837
 ],
 "maxValues": [
  1283.9693603515625
 ],
 "meanValues": [
  291.6130015383995
 ],
 "stdvValues": [
  212.92521180802194
 ],
 "serviceProperties": "Center<\/MosaicMethod>First<\/MosaicOperator>true<\/SortAscending><\/LockImageID><\/TileOrderField>0<\/TileOrderBase>0.000000<\/AvgImageSpacingX>0.000000<\/AvgImageSpacingY>0.0<\/ViewPointX>0.0<\/ViewPointY>0.0<\/ViewPointDefShiftX>0.0<\/ViewPointDefShiftY>None<\/CompressionMethod>75<\/CompressionQuality>0.010000<\/CompressionTolerance>Bilinear<\/SamplingMethod><\/ImageServiceProperties><\/ImageServer>",
 "allowedFields": "",
 "hasMultidimensions": false,
 "pixelSizeX": 2.9999999338063796,
 "pixelSizeY": 2.999999868239369,
 "meanPixelSize": 0.9143999698317722,
 "datasetFormat": "FGDBR",
 "uncompressedSize": 2760932704,
 "blockWidth": 128,
 "blockHeight": 128,
 "compressionType": "NONE",
 "bandNames": [
  "Band_1"
 ],
 "allowCopy": true,
 "allowAnalysis": true,
 "itemAccess": false,
 "inspectionCapabilities": "",
 "minPixelSize": 0,
 "maxPixelSize": 0,
 "copyrightText": "",
 "serviceDataType": "esriImageServiceDataTypeGeneric",
 "serviceSourceType": "esriImageServiceSourceTypeDataset",
 "objectIdField": "",
 "fields": [],
 "capabilities": "Image,Metadata,Mensuration",
 "defaultMosaicMethod": "Center",
 "allowedMosaicMethods": "",
 "sortField": "",
 "sortValue": null,
 "sortAscending": true,
 "mosaicOperator": "First",
 "defaultCompressionQuality": 75,
 "defaultResamplingMethod": "Bilinear",
 "maxImageHeight": 4100,
 "maxImageWidth": 15000,
 "allowRasterFunction": true,
 "rasterFunctionInfos": [
  {
   "name": "None",
   "description": "Make a Raster or Raster Dataset into a Function Raster Dataset.",
   "help": ""
  },
  {
   "name": "Hillshade",
   "description": "Hillshade function template",
   "help": ""
  }
 ],
 "rasterTypeInfos": [
  {
   "name": "Raster Dataset",
   "description": "Supports all ArcGIS Raster Datasets",
   "help": ""
  }
 ],
 "mensurationCapabilities": "Basic",
 "hasHistograms": true,
 "hasColormap": false,
 "hasRasterAttributeTable": false,
 "minScale": 0,
 "maxScale": 0,
 "exportTilesAllowed": false,
 "supportsStatistics": false,
 "supportsAdvancedQueries": false,
 "editFieldsInfo": null,
 "ownershipBasedAccessControlForRasters": null,
 "allowComputeTiePoints": false,
 "useStandardizedQueries": true,
 "advancedQueryCapabilities": {
  "useStandardizedQueries": true,
  "supportsStatistics": false,
  "supportsOrderBy": false,
  "supportsDistinct": false,
  "supportsPagination": false
 },
 "spatialReference": {
  "wkid": 103137,
  "latestWkid": 6559
 }
}
