View In:
ArcGIS JavaScript
ArcGIS Online Map Viewer
ArcGIS Earth
Service Description: TreeCanopy/Afternoon_Temp_Model_Beaverton
Name: TreeCanopy/Afternoon_Temp_Model_Beaverton
Description:
Single Fused Map Cache: false
Extent:
XMin: 508720.0
YMin: 5029430.0
XMax: 520850.0
YMax: 5043920.0
Spatial Reference: 32610
(32610)
LatestVCSWkid(0)
Initial Extent:
XMin: 508720.0
YMin: 5029430.0
XMax: 520850.0
YMax: 5043920.0
Spatial Reference: 32610
(32610)
LatestVCSWkid(0)
Full Extent:
XMin: 508720.0
YMin: 5029430.0
XMax: 520850.0
YMax: 5043920.0
Spatial Reference: 32610
(32610)
LatestVCSWkid(0)
Pixel Size X: 10.0
Pixel Size Y: 10.0
Band Count: 1
Pixel Type: F32
RasterFunction Infos: {"rasterFunctionInfos": [{
"name": "None",
"description": "",
"help": ""
}]}
Mensuration Capabilities: Basic
Inspection Capabilities:
Has Histograms: true
Has Colormap: false
Has Multi Dimensions : false
Rendering Rule:
Min Scale: 0
Max Scale: 0
Copyright Text:
Service Data Type: esriImageServiceDataTypeGeneric
Min Values: 80.30261993408203
Max Values: 90.5795669555664
Mean Values: 86.17019831210939
Standard Deviation Values: 0.8450085015235073
Object ID Field:
Fields:
None
Default Mosaic Method: Center
Allowed Mosaic Methods:
SortField:
SortValue: null
Mosaic Operator: First
Default Compression Quality: 75
Default Resampling Method: Bilinear
Max Record Count: null
Max Image Height: 4100
Max Image Width: 15000
Max Download Image Count: null
Max Mosaic Image Count: null
Allow Raster Function: true
Allow Copy: true
Allow Analysis: true
Allow Compute TiePoints: false
Supports Statistics: false
Supports Advanced Queries: false
Use StandardizedQueries: true
Raster Type Infos:
Name: Raster Dataset
Description: Supports all ArcGIS Raster Datasets
Help:
Has Raster Attribute Table: false
Edit Fields Info: null
Ownership Based AccessControl For Rasters: null
Child Resources:
Info
Histograms
Statistics
Key Properties
Legend
Raster Function Infos
Supported Operations:
Export Image
Identify
Measure
Compute Histograms
Compute Statistics Histograms
Get Samples
Compute Class Statistics
Query Boundary
Compute Pixel Location
Compute Angles
Validate
Project