View In:
ArcGIS JavaScript
ArcGIS Online Map Viewer
ArcGIS Earth
Service Description: Basemap/Hillshade2019
Name: Basemap/Hillshade2019
Description:
Single Fused Map Cache: false
Extent:
XMin: 7572564.178283625
YMin: 635753.5213215045
XMax: 7647906.176621239
YMax: 718205.5177001953
Spatial Reference: 103137
(6559)
LatestVCSWkid(0)
Initial Extent:
XMin: 7572564.178283625
YMin: 635753.5213215045
XMax: 7647906.176621239
YMax: 718205.5177001953
Spatial Reference: 103137
(6559)
LatestVCSWkid(0)
Full Extent:
XMin: 7572564.178283625
YMin: 635753.5213215045
XMax: 7647906.176621239
YMax: 718205.5177001953
Spatial Reference: 103137
(6559)
LatestVCSWkid(0)
Pixel Size X: 2.9999999338063796
Pixel Size Y: 2.999999868239369
Band Count: 1
Pixel Type: F32
RasterFunction Infos: {"rasterFunctionInfos": [
{
"name": "None",
"description": "Make a Raster or Raster Dataset into a Function Raster Dataset.",
"help": ""
},
{
"name": "Hillshade",
"description": "Hillshade function template",
"help": ""
}
]}
Mensuration Capabilities: Basic
Inspection Capabilities:
Has Histograms: true
Has Colormap: false
Has Multi Dimensions : false
Rendering Rule:
Min Scale: 0
Max Scale: 0
Copyright Text:
Service Data Type: esriImageServiceDataTypeGeneric
Min Values: 0.2752596139907837
Max Values: 1283.9693603515625
Mean Values: 291.6130015383995
Standard Deviation Values: 212.92521180802194
Object ID Field:
Fields:
None
Default Mosaic Method: Center
Allowed Mosaic Methods:
SortField:
SortValue: null
Mosaic Operator: First
Default Compression Quality: 75
Default Resampling Method: Bilinear
Max Record Count: null
Max Image Height: 4100
Max Image Width: 15000
Max Download Image Count: null
Max Mosaic Image Count: null
Allow Raster Function: true
Allow Copy: true
Allow Analysis: true
Allow Compute TiePoints: false
Supports Statistics: false
Supports Advanced Queries: false
Use StandardizedQueries: true
Raster Type Infos:
Name: Raster Dataset
Description: Supports all ArcGIS Raster Datasets
Help:
Has Raster Attribute Table: false
Edit Fields Info: null
Ownership Based AccessControl For Rasters: null
Child Resources:
Info
Histograms
Statistics
Key Properties
Legend
Raster Function Infos
Supported Operations:
Export Image
Identify
Measure
Compute Histograms
Compute Statistics Histograms
Get Samples
Compute Class Statistics
Query Boundary
Compute Pixel Location
Compute Angles
Validate
Project